BEGIN:VCALENDAR
VERSION:2.0
PRODID:icalendar-ruby
CALSCALE:GREGORIAN
X-WR-TIMEZONE:Europe/Helsinki
BEGIN:VTIMEZONE
TZID:Europe/Helsinki
BEGIN:DAYLIGHT
DTSTART:20260329T040000
TZOFFSETFROM:+0200
TZOFFSETTO:+0300
RRULE:FREQ=YEARLY;BYDAY=-1SU;BYMONTH=3
TZNAME:EEST
END:DAYLIGHT
BEGIN:STANDARD
DTSTART:20261025T030000
TZOFFSETFROM:+0300
TZOFFSETTO:+0200
RRULE:FREQ=YEARLY;BYDAY=-1SU;BYMONTH=10
TZNAME:EET
END:STANDARD
END:VTIMEZONE
BEGIN:VEVENT
DTSTAMP:20260422T200126
UID:koovee.myclub.fi-2662879
DTSTART;TZID=Europe/Helsinki:20210113T170000
DTEND;TZID=Europe/Helsinki:20210113T170000
DESCRIPTION:Ryhmä on tarkoitettu lapsille\, jotka haluavat oppia painimaan
 . Harjoituksissa tehdään erilaisia ketteryyttä\, akrobatiaa ja nopeutta
  vaativia harjoitteita\,sekä opetellaan kreikkalais-roomalaisen ja vapaap
 ainin perusteita. Hinta (kausimaksi 130€) sisältää ohjatun toiminnan 
 kaksi kertaa viikossa ja ensimmäisen kauden harrastajat saavat T-paidan\,
  hintaan ei kuulu vakuutusta. Ota mukaan sisäjumppavarustus ja sisätossu
 t. JOKAINEN HUOLTAJA ON VELVOLLINEN HANKKIMAAN LAPSELLE SUOMEN PAINILIITON
  LISENSSIN. Ryhmän vastuuvalmentaja Soslan Kusrati. \nLisätiedustelut ko
 ovee.paini@gmail.com\n\n\nHarjoitukset alkaa keskiviikkona 13.1.2021.\n\n\
 nHarjoitusajat: ke ja pe 17:00-18.30\n\nhttps://koovee.myclub.fi/flow/even
 ts/2662879
LOCATION:Nääshallin painisali\, 
SEQUENCE:0
SUMMARY:Painikoulut: Painikoulu\, Nääshalli\, kevät 2021
URL;VALUE=URI:https://koovee.myclub.fi/flow/events/2662879
END:VEVENT
END:VCALENDAR
