BEGIN:VCALENDAR
VERSION:2.0
PRODID:icalendar-ruby
CALSCALE:GREGORIAN
X-WR-TIMEZONE:Europe/Helsinki
BEGIN:VTIMEZONE
TZID:Europe/Helsinki
BEGIN:DAYLIGHT
DTSTART:20260329T040000
TZOFFSETFROM:+0200
TZOFFSETTO:+0300
RRULE:FREQ=YEARLY;BYDAY=-1SU;BYMONTH=3
TZNAME:EEST
END:DAYLIGHT
BEGIN:STANDARD
DTSTART:20261025T030000
TZOFFSETFROM:+0300
TZOFFSETTO:+0200
RRULE:FREQ=YEARLY;BYDAY=-1SU;BYMONTH=10
TZNAME:EET
END:STANDARD
END:VTIMEZONE
BEGIN:VEVENT
DTSTAMP:20260420T201809
UID:koovee.myclub.fi-10203614
DTSTART;TZID=Europe/Helsinki:20260212T174000
DTEND;TZID=Europe/Helsinki:20260212T174000
DESCRIPTION:KOOVEE Naiset 2 \n\nOletko aina halunnut pelata huipussa poruka
 ssa tai huippuvuosiesi jälkeen etsinyt sopivaa jäähdyttelyporukkaa? N2 
 aloittaa toimintansa kaudella 2026-27 ja etsii nyt  pelaajia\, joilla on p
 ilkettä silmäkulmassa\, tarkat vedot maaliin (mieluusti sinne vastustaja
 n maaliin) sekä pysyy pallo hallussa (myös juostessa). Mahdolliset pelil
 liset puutteet korvaa oikea asenne.\nJoukkueeseen on ilmoittanut kiinnostu
 ksensa jo 15 pelaaja\, joten joukkue saadaan hienosti toimimaan.\nLiity si
 is mukaan hyvään seuraan ja ota rohkeasti yhteyttä valmentajaan Oskari 
 Nurmistoon!\n\nIlmoittautumalla tähän ryhmään pääset mukaan sisäpii
 riin ja pystymme tiedottamaan sinua joukkuetta koskevia asioita. Valmentaj
 a \nOskari Nurmisto\n050 5700 970\noskari.nurmisto@gmail.com\n\n\n\nhttps:
 //koovee.myclub.fi/flow/events/10203614
LOCATION:Pirkkahalli\, Ilmailunkatu 20\, 33900 Tampere
SEQUENCE:0
SUMMARY:Naiset 2: Alustava Ilmoittautuminen mukaan Koovee  naisten 2-joukku
 eeseen kaudelle 2026-27
URL;VALUE=URI:https://koovee.myclub.fi/flow/events/10203614
END:VEVENT
END:VCALENDAR
